BEGIN:VCALENDAR
VERSION:2.0
PRODID:www.dzs.cz
BEGIN:VEVENT
UID:69ea03b31be54
DTSTART:20221130T120000Z
SEQUENCE:0
TRANSP:OPAQUE
DTEND:20221130T150000Z
URL:https://www.dzs.cz/udalost/rozsirujici-setkani-zastupcu-vs-univ3-center
 -vzdelavani-dospelych-celozivotniho-vzdelavani
SUMMARY:Event: Rozšiřující setkání zástupců VŠ - UNIV3\, Center vz
 dělávání dospělých a celoživotního vzdělávání
CLASS:PUBLIC
DTSTAMP:20260423T113411Z
END:VEVENT
END:VCALENDAR