BEGIN:VCALENDAR
VERSION:2.0
PRODID:www.dzs.cz
BEGIN:VEVENT
UID:69ea03ef4c34f
DTSTART:20221124T083000Z
SEQUENCE:0
TRANSP:OPAQUE
DTEND:20221124T150000Z
URL:https://www.dzs.cz/udalost/vzdelavani-dospelych-seminar-pro-zajemce-bud
 ouci-zadatele-o-mezinarodni-vzdelavaci-aktivity
SUMMARY:Event: Vzdělávání dospělých: Seminář pro zájemce a budouc
 í žadatele o mezinárodní vzdělávací aktivity z řad organizací 
CLASS:PUBLIC
DTSTAMP:20260423T113511Z
END:VEVENT
END:VCALENDAR