BEGIN:VCALENDAR
VERSION:2.0
PRODID:www.dzs.cz
BEGIN:VEVENT
UID:69e9edb48fe93
DTSTART;VALUE=DATE:20221129
SEQUENCE:0
TRANSP:OPAQUE
DTEND;VALUE=DATE:20221203
URL:https://www.dzs.cz/udalost/how-support-and-integrate-young-refugees
SUMMARY:Event: How to support and integrate young refugees
CLASS:PUBLIC
X-MICROSOFT-CDO-ALLDAYEVENT:TRUE
DTSTAMP:20260423T100020Z
END:VEVENT
END:VCALENDAR