BEGIN:VCALENDAR
VERSION:2.0
PRODID:www.dzs.cz
BEGIN:VEVENT
UID:69ea04147e98d
DTSTART;VALUE=DATE:20220907
SEQUENCE:0
TRANSP:OPAQUE
DTEND;VALUE=DATE:20220908
URL:https://www.dzs.cz/udalost/webinar-na-tema-uvod-do-dusevniho-vlastnictv
 i-ip
SUMMARY:Event: Webinář na téma úvod do duševního vlastnictví (IP) 
CLASS:PUBLIC
X-MICROSOFT-CDO-ALLDAYEVENT:TRUE
DTSTAMP:20260423T113548Z
END:VEVENT
END:VCALENDAR