BEGIN:VCALENDAR
VERSION:2.0
PRODID:www.dzs.cz
BEGIN:VEVENT
UID:69ea0231f119b
DTSTART:20220728T070000Z
SEQUENCE:0
TRANSP:OPAQUE
DTEND:20220728T144500Z
URL:https://www.dzs.cz/udalost/podporme-lidi-na-uteku-boj-proti-nesnasenliv
 osti
SUMMARY:Event: Podpořme lidi na útěku: Boj proti nesnášenlivosti
CLASS:PUBLIC
DTSTAMP:20260423T112745Z
END:VEVENT
END:VCALENDAR