BEGIN:VCALENDAR
VERSION:2.0
PRODID:www.dzs.cz
BEGIN:VEVENT
UID:69e9edb2c016e
DTSTART:20220624T080000Z
SEQUENCE:0
TRANSP:OPAQUE
DTEND:20220624T110000Z
URL:https://www.dzs.cz/udalost/online-infoday-erasmus-european-policy-netwo
 rks-vyzva-2022
SUMMARY:Event: Online Infoday: Erasmus+ European Policy Networks (výzva 20
 22)
CLASS:PUBLIC
DTSTAMP:20260423T100018Z
END:VEVENT
END:VCALENDAR