BEGIN:VCALENDAR
VERSION:2.0
PRODID:www.dzs.cz
BEGIN:VEVENT
UID:69e9d89ae1b49
DTSTART;VALUE=DATE:20220428
SEQUENCE:0
TRANSP:OPAQUE
DTEND;VALUE=DATE:20220429
URL:https://www.dzs.cz/udalost/webinar-na-tema-chytre-specializace-pro-ucel
 y-udrzitelneho-rozvoje
SUMMARY:Event: Webinář na téma Chytré specializace pro účely udržite
 lného rozvoje 
CLASS:PUBLIC
X-MICROSOFT-CDO-ALLDAYEVENT:TRUE
DTSTAMP:20260423T083018Z
END:VEVENT
END:VCALENDAR