BEGIN:VCALENDAR
VERSION:2.0
PRODID:www.dzs.cz
BEGIN:VEVENT
UID:69e9d8a3e6682
DTSTART:20220421T120000Z
SEQUENCE:0
TRANSP:OPAQUE
DTEND:20220421T140000Z
URL:https://www.dzs.cz/udalost/konzultace-projektovych-zadosti-1
SUMMARY:Event: Konzultace projektových žádostí
CLASS:PUBLIC
DTSTAMP:20260423T083027Z
END:VEVENT
END:VCALENDAR