BEGIN:VCALENDAR
VERSION:2.0
PRODID:www.dzs.cz
BEGIN:VEVENT
UID:69ea7a4820cb6
DTSTART:20220118T090000Z
SEQUENCE:0
TRANSP:OPAQUE
DTEND:20220118T153000Z
URL:https://www.dzs.cz/udalost/partnerstvi-pro-inovace-vyhledove-projekty-i
 nfowebinar-k-vyzve-2022
SUMMARY:Event: Partnerství pro inovace –⁠ Výhledové projekty: infowe
 binář k výzvě 2022
CLASS:PUBLIC
DTSTAMP:20260423T200008Z
END:VEVENT
END:VCALENDAR