BEGIN:VCALENDAR
VERSION:2.0
PRODID:www.dzs.cz
BEGIN:VEVENT
UID:69ea0457ebb00
DTSTART:20211202T083000Z
SEQUENCE:0
TRANSP:OPAQUE
DTEND:20211202T113000Z
URL:https://www.dzs.cz/udalost/budovani-kapacit-v-oblasti-vs-vzdelavani-inf
 owebinar-k-vyzve-2022
SUMMARY:Event: Budování kapacit v oblasti VŠ vzdělávání: infowebiná
 ř k výzvě 2022
CLASS:PUBLIC
DTSTAMP:20260423T113655Z
END:VEVENT
END:VCALENDAR