BEGIN:VCALENDAR
VERSION:2.0
PRODID:www.dzs.cz
BEGIN:VEVENT
UID:69ea04584060f
DTSTART;VALUE=DATE:20211129
SEQUENCE:0
TRANSP:OPAQUE
DTEND;VALUE=DATE:20211202
URL:https://www.dzs.cz/udalost/informacni-dny-ke-klastru-4-horizontu-evropa
SUMMARY:Event: Informační dny ke Klastru 4 Horizontu Evropa
CLASS:PUBLIC
X-MICROSOFT-CDO-ALLDAYEVENT:TRUE
DTSTAMP:20260423T113656Z
END:VEVENT
END:VCALENDAR