BEGIN:VCALENDAR
VERSION:2.0
PRODID:www.dzs.cz
BEGIN:VEVENT
UID:69e9d8a26a147
DTSTART;VALUE=DATE:20211028
SEQUENCE:0
TRANSP:OPAQUE
DTEND;VALUE=DATE:20211029
URL:https://www.dzs.cz/udalost/webinar-partnerska-burza-na-tema-horizontu-e
 vropa-evropskeho-obranneho-fondu
SUMMARY:Event: Webinář a partnerská burza na téma Horizontu Evropa a Ev
 ropského obranného fondu 
CLASS:PUBLIC
X-MICROSOFT-CDO-ALLDAYEVENT:TRUE
DTSTAMP:20260423T083026Z
END:VEVENT
END:VCALENDAR