BEGIN:VCALENDAR
VERSION:2.0
PRODID:www.dzs.cz
BEGIN:VEVENT
UID:69e9d8a3041e8
DTSTART:20211027T080000Z
SEQUENCE:0
TRANSP:OPAQUE
DTEND:20211027T100000Z
URL:https://www.dzs.cz/udalost/podpora-karierniho-rozvoje-v-centru-systemu-
 celozivotniho-vzdelavani
SUMMARY:Event: Podpora kariérního rozvoje v centru systémů celoživotn
 ího vzdělávání
CLASS:PUBLIC
DTSTAMP:20260423T083027Z
END:VEVENT
END:VCALENDAR