BEGIN:VCALENDAR
VERSION:2.0
PRODID:www.dzs.cz
BEGIN:VEVENT
UID:69e9d89c49952
DTSTART;VALUE=DATE:20211025
SEQUENCE:0
TRANSP:OPAQUE
DTEND;VALUE=DATE:20211030
URL:https://www.dzs.cz/udalost/infodny-ke-klastru-1-klastru-6-horizontu-evr
 opa
SUMMARY:Event: Infodny ke klastru 1 a klastru 6 Horizontu Evropa  
CLASS:PUBLIC
X-MICROSOFT-CDO-ALLDAYEVENT:TRUE
DTSTAMP:20260423T083020Z
END:VEVENT
END:VCALENDAR