BEGIN:VCALENDAR
VERSION:2.0
PRODID:www.dzs.cz
BEGIN:VEVENT
UID:69ea985b7b6f3
DTSTART:20211130T080000Z
SEQUENCE:0
TRANSP:OPAQUE
DTEND:20211130T130000Z
URL:https://www.dzs.cz/udalost/regionalni-seminar-epale-2021-digitalni-tran
 sformace-vzdelavani-dospelych-v-prikladech-v-0
SUMMARY:Event: Regionální seminář EPALE 2021 Digitální transformace v
 zdělávání dospělých v příkladech v Plzni
CLASS:PUBLIC
DTSTAMP:20260423T220827Z
END:VEVENT
END:VCALENDAR