BEGIN:VCALENDAR
VERSION:2.0
PRODID:www.dzs.cz
BEGIN:VEVENT
UID:69e9edb3afea6
DTSTART;VALUE=DATE:20211026
SEQUENCE:0
TRANSP:OPAQUE
DTEND;VALUE=DATE:20211028
URL:https://www.dzs.cz/udalost/predsednicka-konference-k-evropskemu-vyzkumn
 emu-prostoru
SUMMARY:Event: Předsednická konference k evropskému výzkumnému prost
 oru 
CLASS:PUBLIC
X-MICROSOFT-CDO-ALLDAYEVENT:TRUE
DTSTAMP:20260423T100019Z
END:VEVENT
END:VCALENDAR